BEGIN:VCALENDAR
VERSION:2.0
PRODID:spatie/icalendar-generator
DESCRIPTION:Veranstaltungen von Freiwillige Feuerwehr Steinberg e.V.
X-WR-CALDESC:Veranstaltungen von Freiwillige Feuerwehr Steinberg e.V.
REFRESH-INTERVAL;VALUE=DURATION:PT1440M
X-PUBLISHED-TTL:PT1440M
BEGIN:VTIMEZONE
TZID:Europe/Berlin
BEGIN:DAYLIGHT
DTSTART:20260329T020000Z
TZOFFSETFROM:+0100
TZOFFSETTO:+0200
END:DAYLIGHT
BEGIN:STANDARD
DTSTART:20261025T030000Z
TZOFFSETFROM:+0200
TZOFFSETTO:+0100
END:STANDARD
END:VTIMEZONE
BEGIN:VTIMEZONE
TZID:UTC
BEGIN:STANDARD
DTSTART:20250723T183756Z
TZOFFSETFROM:+0000
TZOFFSETTO:+0000
END:STANDARD
END:VTIMEZONE
BEGIN:VEVENT
UID:95-85
DTSTAMP:20260419T183756Z
SUMMARY:Übung
LOCATION:
ORGANIZER;CN=Alex:MAILTO:vilsmeieralex@outlook.com
DTSTART;TZID=Europe/Berlin:20260814T190000
DTEND;TZID=Europe/Berlin:20260814T200000
X-ALT-DESC;FMTTYPE=TEXT/HTML:
CATEGORIES:Dienstliche Termine
URL;VALUE=URI:https://www.feuerwehr-steinberg.com/my-calendar/?mc_id=95&amp;#03
 8;vcal=95
METHOD:PUBLISH
END:VEVENT
END:VCALENDAR